BEGIN:VCALENDAR
VERSION:2.0
PRODID:-//hacksw/handcal//NONSGML v1.0//EN
CALSCALE:GREGORIAN
BEGIN:VEVENT
ORGANIZER;CN=Fortrea:MAILTO:no-reply@gcs-web.com
DTEND:
UID:f037126f-f1f2-4a65-a016-46d3cd383f15
DTSTAMP:1776954388
LOCATION:https://edge.media-server.com/mmc/p/yasu43ht
DESCRIPTION:Event Details https://ir.fortrea.com/events/event-details/fortrea-q126-earnings-conference-call\n\nWebcast: https://edge.media-server.com/mmc/p/yasu43ht
URL;VALUE=URI:https://edge.media-server.com/mmc/p/yasu43ht
SUMMARY:Fortrea - Fortrea Q1'26 Earnings Conference Call
DTSTART:20260505T120000Z
END:VEVENT
END:VCALENDAR